Workbook

Sheet 信息采集表（必填）
C1: ELISA检测服务-信息采集表
A2: 尊敬的老师，您好！ 非常感谢您选择联科生物，为给您提供更加优质高效的服务，请您认真填写以下信息表，我公司郑重承诺对您所填写的信息严格保密，感谢您的理解与配合！
A3: 1：客户信息 | B3: 姓名： | D3: 单位： | G3: 邮箱：
B4: 电话： | D4: 地址：
A5: 2：样本信息 | B5: 种属来源：（请准确填写） | D5: 样本类型： （非血清/血浆/细胞上清样本，请提前与我们沟通） | G5: 数量：
B6: 预估检测指标表达量： | D6: 预计寄出时间： | G6: 样本编号： | H6: 样本编号请在“样本信息表（必填）”sheet中列出，请务必填写清楚，以免样本错位影响实验
B7: 是否有传染性： | D7: 如果是临床样本，请在右边空白描述疾病类型：
A8: 3：实验方案 | B8: 是否需要预实验： （建议预实验） | D8: 预实验样本编号： | G8: 排版方案编号：
B9: 正实验标准曲线数量： （此项不填，默认双标） | D9: 正实验复孔数量： | G9: 排版方案编号：
B10: 检测指标：（请准确填写）
B11: 备注： | C11: 实验排版（建议排版参见“实验排版-无预实验”和“实验排版-含预实验”，请将序号填写在右侧空格处,自定义请在自定义区域填写)
A12: 4：特殊说明 | B12: （若样本需要特别处理，请写下处理方法）
A14: 5：剩余样本与试剂盒处理 | B14: 是否寄回 | D14: 寄回地址（请填写收件地址、收件人姓名与联系方式）
B15: 备注： | C15: 剩余样本/试剂盒如需在检测中心保存，我们将最多为您保存一周，超过一周没有回复，我们将作为废品处理，谢谢您的理解与配合。
A18: 6：业务员补充信息 | B18: 表格提交日期 | D18: 订单编号 | G18: 检测服务协议编号
B19: 销售姓名 | D19: 销售部门 | G19: 联系电话
B20: 产品信息（非联科自产试剂盒，请详细填写产品信息）
B21: 厂商 | C21: 目录号 | D21: 产品名称 | F21: 规格 | G21: 数量 | H21: 出库检测时间

Sheet 样本信息表（必填）
C1: ELISA检测服务--样本信息表
A2: 注意事项： 1：请您在寄送的样本中，务必加放纸条，包含姓名-电话-单位-检测种属和指标，避免收到样本无法辨识样本信息； 2：如果是组织样本需研磨破碎，请提前说明（25元/样），建议寄送量50mg/检测指标，每个样本量最多不超过200mg； 3：如果是细胞上清样本，请随样本同时寄送同批次的培养基，寄送量为：5ml/板。
A3: 标本数量 | C3: 保存温度(℃) | G3: 样本收集日期
A4: 序号 | B4: 样本编号 （填写时，请与样本管上实际标注保持一致） | C4: 样本类型 | E4: 常见样本量(>ul)/ 组织样本重量(mg) | G4: 备注 （若样本冻融过，请填写冻融次数）
A5: 1
A6: 2
A7: 3
A8: 4
A9: 5
A10: 6
A11: 7
A12: 8
A13: 9
A14: 10
A15: 11
A16: 12
... A84: 80

Sheet 实验排版-无预实验
D1: ELISA/Luminex检测实验排版方案-（无预实验）
A5: 方案一 | B5: 48T-1-检测16个样本（每个样本做复孔）
B6: 1 | C6: 2 | D6: 3 | E6: 4 | F6: 5 | G6: 6
A7: A | B7: Std1 | C7: Std1 | D7: ='样本信息表（必填）'!B5 -> 0 | E7: ='样本信息表（必填）'!B9 -> 0 | F7: ='样本信息表（必填）'!B13 -> 0 | G7: ='样本信息表（必填）'!B17 -> 0
A8: B | B8: Std2 | C8: Std2 | D8: ='样本信息表（必填）'!B5 -> 0 | E8: ='样本信息表（必填）'!B9 -> 0 | F8: ='样本信息表（必填）'!B13 -> 0 | G8: ='样本信息表（必填）'!B17 -> 0
A9: C | B9: Std3 | C9: Std3 | D9: ='样本信息表（必填）'!B6 -> 0 | E9: ='样本信息表（必填）'!B10 -> 0 | F9: ='样本信息表（必填）'!B14 -> 0 | G9: ='样本信息表（必填）'!B18 -> 0
A10: D | B10: Std4 | C10: Std4 | D10: ='样本信息表（必填）'!B6 -> 0 | E10: ='样本信息表（必填）'!B10 -> 0 | F10: ='样本信息表（必填）'!B14 -> 0 | G10: ='样本信息表（必填）'!B18 -> 0
A11: E | B11: Std5 | C11: Std5 | D11: ='样本信息表（必填）'!B7 -> 0 | E11: ='样本信息表（必填）'!B11 -> 0 | F11: ='样本信息表（必填）'!B15 -> 0 | G11: ='样本信息表（必填）'!B19 -> 0
A12: F | B12: Std6 | C12: Std6 | D12: ='样本信息表（必填）'!B7 -> 0 | E12: ='样本信息表（必填）'!B11 -> 0 | F12: ='样本信息表（必填）'!B15 -> 0 | G12: ='样本信息表（必填）'!B19 -> 0
A13: G | B13: Std7 | C13: Std7 | D13: ='样本信息表（必填）'!B8 -> 0 | E13: ='样本信息表（必填）'!B12 -> 0 | F13: ='样本信息表（必填）'!B16 -> 0 | G13: ='样本信息表（必填）'!B20 -> 0
A14: H | B14: Blank | C14: Blank | D14: ='样本信息表（必填）'!B8 -> 0 | E14: ='样本信息表（必填）'!B12 -> 0 | F14: ='样本信息表（必填）'!B16 -> 0 | G14: ='样本信息表（必填）'!B20 -> 0
A15: 注：48T试剂盒由于只有一管标准品，故暂不提供预实验检测
A18: 方案二 | B18: 48T-2-检测32个样本（样本不做重复）
B19: 1 | C19: 2 | D19: 3 | E19: 4 | F19: 5 | G19: 6
A20: A | B20: Std1 | C20: Std1 | D20: ='样本信息表（必填）'!B5 -> 0 | E20: ='样本信息表（必填）'!B13 -> 0 | F20: ='样本信息表（必填）'!B21 -> 0 | G20: ='样本信息表（必填）'!B29 -> 0
A21: B | B21: Std2 | C21: Std2 | D21: ='样本信息表（必填）'!B6 -> 0 | E21: ='样本信息表（必填）'!B14 -> 0 | F21: ='样本信息表（必填）'!B22 -> 0 | G21: ='样本信息表（必填）'!B30 -> 0
A22: C | B22: Std3 | C22: Std3 | D22: ='样本信息表（必填）'!B7 -> 0 | E22: ='样本信息表（必填）'!B15 -> 0 | F22: ='样本信息表（必填）'!B23 -> 0 | G22: ='样本信息表（必填）'!B31 -> 0
A23: D | B23: Std4 | C23: Std4 | D23: ='样本信息表（必填）'!B8 -> 0 | E23: ='样本信息表（必填）'!B16 -> 0 | F23: ='样本信息表（必填）'!B24 -> 0 | G23: ='样本信息表（必填）'!B32 -> 0
A24: E | B24: Std5 | C24: Std5 | D24: ='样本信息表（必填）'!B9 -> 0 | E24: ='样本信息表（必填）'!B17 -> 0 | F24: ='样本信息表（必填）'!B25 -> 0 | G24: ='样本信息表（必填）'!B33 -> 0
A25: F | B25: Std6 | C25: Std6 | D25: ='样本信息表（必填）'!B10 -> 0 | E25: ='样本信息表（必填）'!B18 -> 0 | F25: ='样本信息表（必填）'!B26 -> 0 | G25: ='样本信息表（必填）'!B34 -> 0
A26: G | B26: Std7 | C26: Std7 | D26: ='样本信息表（必填）'!B11 -> 0 | E26: ='样本信息表（必填）'!B19 -> 0 | F26: ='样本信息表（必填）'!B27 -> 0 | G26: ='样本信息表（必填）'!#REF! -> #REF!
A27: H | B27: Blank | C27: Blank | D27: ='样本信息表（必填）'!B12 -> 0 | E27: ='样本信息表（必填）'!B20 -> 0 | F27: ='样本信息表（必填）'!B28 -> 0 | G27: ='样本信息表（必填）'!B35 -> 0
A28: 注：48T试剂盒由于只有一管标准品，故暂不提供预实验检测
A30: 方案三 | B30: 96T-1-检测40个样本 （每个样本做复孔）
B31: 1 | C31: 2 | D31: 3 | E31: 4 | F31: 5 | G31: 6 | H31: 7 | I31: 8 | J31: 9 | K31: 10 | L31: 11 | M31: 12
A32: A | B32: Std1 | C32: Std1 | D32: ='样本信息表（必填）'!B5 -> 0 | E32: ='样本信息表（必填）'!B9 -> 0 | F32: ='样本信息表（必填）'!B13 -> 0 | G32: ='样本信息表（必填）'!B17 -> 0 | H32: ='样本信息表（必填）'!$B21 -> 0 | I32: ='样本信息表（必填）'!$B25 -> 0 | J32: ='样本信息表（必填）'!$B29 -> 0 | K32: ='样本信息表（必填）'!$B33 -> 0 | L32: ='样本信息表（必填）'!$B36 -> 0 | M32: ='样本信息表（必填）'!$B40 -> 0
A33: B | B33: Std2 | C33: Std2 | D33: ='样本信息表（必填）'!B5 -> 0 | E33: ='样本信息表（必填）'!B9 -> 0 | F33: ='样本信息表（必填）'!B13 -> 0 | G33: ='样本信息表（必填）'!B17 -> 0 | H33: ='样本信息表（必填）'!$B21 -> 0 | I33: ='样本信息表（必填）'!$B25 -> 0 | J33: ='样本信息表（必填）'!$B29 -> 0 | K33: ='样本信息表（必填）'!$B33 -> 0 | L33: ='样本信息表（必填）'!$B36 -> 0 | M33: ='样本信息表（必填）'!$B40 -> 0
A34: C | B34: Std3 | C34: Std3 | D34: ='样本信息表（必填）'!B6 -> 0 | E34: ='样本信息表（必填）'!B10 -> 0 | F34: ='样本信息表（必填）'!B14 -> 0 | G34: ='样本信息表（必填）'!B18 -> 0 | H34: ='样本信息表（必填）'!$B22 -> 0 | I34: ='样本信息表（必填）'!$B26 -> 0 | J34: ='样本信息表（必填）'!$B30 -> 0 | K34: ='样本信息表（必填）'!$B34 -> 0 | L34: ='样本信息表（必填）'!$B37 -> 0 | M34: ='样本信息表（必填）'!$B41 -> 0
A35: D | B35: Std4 | C35: Std4 | D35: ='样本信息表（必填）'!B6 -> 0 | E35: ='样本信息表（必填）'!B10 -> 0 | F35: ='样本信息表（必填）'!B14 -> 0 | G35: ='样本信息表（必填）'!B18 -> 0 | H35: ='样本信息表（必填）'!$B22 -> 0 | I35: ='样本信息表（必填）'!$B26 -> 0 | J35: ='样本信息表（必填）'!$B30 -> 0 | K35: ='样本信息表（必填）'!$B34 -> 0 | L35: ='样本信息表（必填）'!$B37 -> 0 | M35: ='样本信息表（必填）'!$B41 -> 0
A36: E | B36: Std5 | C36: Std5 | D36: ='样本信息表（必填）'!B7 -> 0 | E36: ='样本信息表（必填）'!B11 -> 0 | F36: ='样本信息表（必填）'!B15 -> 0 | G36: ='样本信息表（必填）'!B19 -> 0 | H36: ='样本信息表（必填）'!$B23 -> 0 | I36: ='样本信息表（必填）'!$B27 -> 0 | J36: ='样本信息表（必填）'!$B31 -> 0 | K36: ='样本信息表（必填）'!#REF! -> #REF! | L36: ='样本信息表（必填）'!$B38 -> 0 | M36: ='样本信息表（必填）'!$B42 -> 0
A37: F | B37: Std6 | C37: Std6 | D37: ='样本信息表（必填）'!B7 -> 0 | E37: ='样本信息表（必填）'!B11 -> 0 | F37: ='样本信息表（必填）'!B15 -> 0 | G37: ='样本信息表（必填）'!B19 -> 0 | H37: ='样本信息表（必填）'!$B23 -> 0 | I37: ='样本信息表（必填）'!$B27 -> 0 | J37: ='样本信息表（必填）'!$B31 -> 0 | K37: ='样本信息表（必填）'!#REF! -> #REF! | L37: ='样本信息表（必填）'!$B38 -> 0 | M37: ='样本信息表（必填）'!$B42 -> 0
A38: G | B38: Std7 | C38: Std7 | D38: ='样本信息表（必填）'!B8 -> 0 | E38: ='样本信息表（必填）'!B12 -> 0 | F38: ='样本信息表（必填）'!B16 -> 0 | G38: ='样本信息表（必填）'!B20 -> 0 | H38: ='样本信息表（必填）'!$B24 -> 0 | I38: ='样本信息表（必填）'!$B28 -> 0 | J38: ='样本信息表（必填）'!$B32 -> 0 | K38: ='样本信息表（必填）'!$B35 -> 0 | L38: ='样本信息表（必填）'!$B39 -> 0 | M38: ='样本信息表（必填）'!$B43 -> 0
A39: H | B39: Blank | C39: Blank | D39: ='样本信息表（必填）'!B8 -> 0 | E39: ='样本信息表（必填）'!B12 -> 0 | F39: ='样本信息表（必填）'!B16 -> 0 | G39: ='样本信息表（必填）'!B20 -> 0 | H39: ='样本信息表（必填）'!$B24 -> 0 | I39: ='样本信息表（必填）'!$B28 -> 0 | J39: ='样本信息表（必填）'!$B32 -> 0 | K39: ='样本信息表（必填）'!$B35 -> 0 | L39: ='样本信息表（必填）'!$B39 -> 0 | M39: ='样本信息表（必填）'!$B43 -> 0
A41: 方案四 | B41: 96T-2-检测80个样本 （样本不做重复）
B42: 1 | C42: 2 | D42: 3 | E42: 4 | F42: 5 | G42: 6 | H42: 7 | I42: 8 | J42: 9 | K42: 10 | L42: 11 | M42: 12
A43: A | B43: Std1 | C43: Std1 | D43: ='样本信息表（必填）'!B5 -> 0 | E43: ='样本信息表（必填）'!B13 -> 0 | F43: ='样本信息表（必填）'!B21 -> 0 | G43: ='样本信息表（必填）'!B29 -> 0 | H43: ='样本信息表（必填）'!B36 -> 0 | I43: ='样本信息表（必填）'!B44 -> 0 | J43: ='样本信息表（必填）'!B52 -> 0 | K43: ='样本信息表（必填）'!B60 -> 0 | L43: ='样本信息表（必填）'!B68 -> 0 | M43: ='样本信息表（必填）'!B76 -> 0
A44: B | B44: Std2 | C44: Std2 | D44: ='样本信息表（必填）'!B6 -> 0 | E44: ='样本信息表（必填）'!B14 -> 0 | F44: ='样本信息表（必填）'!B22 -> 0 | G44: ='样本信息表（必填）'!B30 -> 0 | H44: ='样本信息表（必填）'!B37 -> 0 | I44: ='样本信息表（必填）'!B45 -> 0 | J44: ='样本信息表（必填）'!B53 -> 0 | K44: ='样本信息表（必填）'!B61 -> 0 | L44: ='样本信息表（必填）'!B69 -> 0 | M44: ='样本信息表（必填）'!B77 -> 0
A45: C | B45: Std3 | C45: Std3 | D45: ='样本信息表（必填）'!B7 -> 0 | E45: ='样本信息表（必填）'!B15 -> 0 | F45: ='样本信息表（必填）'!B23 -> 0 | G45: ='样本信息表（必填）'!B31 -> 0 | H45: ='样本信息表（必填）'!B38 -> 0 | I45: ='样本信息表（必填）'!B46 -> 0 | J45: ='样本信息表（必填）'!B54 -> 0 | K45: ='样本信息表（必填）'!B62 -> 0 | L45: ='样本信息表（必填）'!B70 -> 0 | M45: ='样本信息表（必填）'!B78 -> 0
A46: D | B46: Std4 | C46: Std4 | D46: ='样本信息表（必填）'!B8 -> 0 | E46: ='样本信息表（必填）'!B16 -> 0 | F46: ='样本信息表（必填）'!B24 -> 0 | G46: ='样本信息表（必填）'!B32 -> 0 | H46: ='样本信息表（必填）'!B39 -> 0 | I46: ='样本信息表（必填）'!B47 -> 0 | J46: ='样本信息表（必填）'!B55 -> 0 | K46: ='样本信息表（必填）'!B63 -> 0 | L46: ='样本信息表（必填）'!B71 -> 0 | M46: ='样本信息表（必填）'!B79 -> 0
A47: E | B47: Std5 | C47: Std5 | D47: ='样本信息表（必填）'!B9 -> 0 | E47: ='样本信息表（必填）'!B17 -> 0 | F47: ='样本信息表（必填）'!B25 -> 0 | G47: ='样本信息表（必填）'!B33 -> 0 | H47: ='样本信息表（必填）'!B40 -> 0 | I47: ='样本信息表（必填）'!B48 -> 0 | J47: ='样本信息表（必填）'!B56 -> 0 | K47: ='样本信息表（必填）'!B64 -> 0 | L47: ='样本信息表（必填）'!B72 -> 0 | M47: ='样本信息表（必填）'!B80 -> 0
A48: F | B48: Std6 | C48: Std6 | D48: ='样本信息表（必填）'!B10 -> 0 | E48: ='样本信息表（必填）'!B18 -> 0 | F48: ='样本信息表（必填）'!B26 -> 0 | G48: ='样本信息表（必填）'!B34 -> 0 | H48: ='样本信息表（必填）'!B41 -> 0 | I48: ='样本信息表（必填）'!B49 -> 0 | J48: ='样本信息表（必填）'!B57 -> 0 | K48: ='样本信息表（必填）'!B65 -> 0 | L48: ='样本信息表（必填）'!B73 -> 0 | M48: ='样本信息表（必填）'!B81 -> 0
A49: G | B49: Std7 | C49: Std7 | D49: ='样本信息表（必填）'!B11 -> 0 | E49: ='样本信息表（必填）'!B19 -> 0 | F49: ='样本信息表（必填）'!B27 -> 0 | G49: ='样本信息表（必填）'!#REF! -> #REF! | H49: ='样本信息表（必填）'!B42 -> 0 | I49: ='样本信息表（必填）'!B50 -> 0 | J49: ='样本信息表（必填）'!B58 -> 0 | K49: ='样本信息表（必填）'!B66 -> 0 | L49: ='样本信息表（必填）'!B74 -> 0 | M49: ='样本信息表（必填）'!B82 -> 0
A50: H | B50: Blank | C50: Blank | D50: ='样本信息表（必填）'!B12 -> 0 | E50: ='样本信息表（必填）'!B20 -> 0 | F50: ='样本信息表（必填）'!B28 -> 0 | G50: ='样本信息表（必填）'!B35 -> 0 | H50: ='样本信息表（必填）'!B43 -> 0 | I50: ='样本信息表（必填）'!B51 -> 0 | J50: ='样本信息表（必填）'!B59 -> 0 | K50: ='样本信息表（必填）'!B67 -> 0 | L50: ='样本信息表（必填）'!B75 -> 0 | M50: ='样本信息表（必填）'!B83 -> 0

Sheet 实验排版-含预实验
D1: ELISA/Luminex检测实验排版方案（含预实验）
A6: 预实验
B7: 1 | C7: 2
A8: A | B8: Std1 | C8: Samp1 10X
A9: B | B9: Std2 | C9: Samp1 100X
A10: C | B10: Std3 | C10: Samp2 10X
A11: D | B11: Std4 | C11: Samp2 100X
A12: E | B12: Std5 | C12: Samp3 10X
A13: F | B13: Std6 | C13: Samp3 100X
A14: G | B14: Std7 | C14: Samp4 10X
A15: H | B15: Blank | C15: Samp4 100X
A17: 正实验
A19: 方案七 | B19: 96T-1-检测32个样本（去掉预实验用掉的2条酶标条，剩余10条用于正实验标曲和样本，每个样本做复孔）
B20: 1 | C20: 2 | D20: 3 | E20: 4 | F20: 5 | G20: 6 | H20: 7 | I20: 8 | J20: 9 | K20: 10
A21: A | B21: Std1 | C21: Std1 | D21: ='样本信息表（必填）'!B5 -> 0 | E21: ='样本信息表（必填）'!B9 -> 0 | F21: ='样本信息表（必填）'!B13 -> 0 | G21: ='样本信息表（必填）'!B17 -> 0 | H21: ='样本信息表（必填）'!B21 -> 0 | I21: ='样本信息表（必填）'!B25 -> 0 | J21: ='样本信息表（必填）'!B29 -> 0 | K21: ='样本信息表（必填）'!B33 -> 0
A22: B | B22: Std2 | C22: Std2 | D22: ='样本信息表（必填）'!B5 -> 0 | E22: ='样本信息表（必填）'!B9 -> 0 | F22: ='样本信息表（必填）'!B13 -> 0 | G22: ='样本信息表（必填）'!B17 -> 0 | H22: ='样本信息表（必填）'!B21 -> 0 | I22: ='样本信息表（必填）'!B25 -> 0 | J22: ='样本信息表（必填）'!B29 -> 0 | K22: ='样本信息表（必填）'!B33 -> 0
A23: C | B23: Std3 | C23: Std3 | D23: ='样本信息表（必填）'!B6 -> 0 | E23: ='样本信息表（必填）'!B10 -> 0 | F23: ='样本信息表（必填）'!B14 -> 0 | G23: ='样本信息表（必填）'!B18 -> 0 | H23: ='样本信息表（必填）'!B22 -> 0 | I23: ='样本信息表（必填）'!B26 -> 0 | J23: ='样本信息表（必填）'!B30 -> 0 | K23: ='样本信息表（必填）'!B34 -> 0
A24: D | B24: Std4 | C24: Std4 | D24: ='样本信息表（必填）'!B6 -> 0 | E24: ='样本信息表（必填）'!B10 -> 0 | F24: ='样本信息表（必填）'!B14 -> 0 | G24: ='样本信息表（必填）'!B18 -> 0 | H24: ='样本信息表（必填）'!B22 -> 0 | I24: ='样本信息表（必填）'!B26 -> 0 | J24: ='样本信息表（必填）'!B30 -> 0 | K24: ='样本信息表（必填）'!B34 -> 0
A25: E | B25: Std5 | C25: Std5 | D25: ='样本信息表（必填）'!B7 -> 0 | E25: ='样本信息表（必填）'!B11 -> 0 | F25: ='样本信息表（必填）'!B15 -> 0 | G25: ='样本信息表（必填）'!B19 -> 0 | H25: ='样本信息表（必填）'!B23 -> 0 | I25: ='样本信息表（必填）'!B27 -> 0 | J25: ='样本信息表（必填）'!B31 -> 0 | K25: ='样本信息表（必填）'!#REF! -> #REF!
A26: F | B26: Std6 | C26: Std6 | D26: ='样本信息表（必填）'!B7 -> 0 | E26: ='样本信息表（必填）'!B11 -> 0 | F26: ='样本信息表（必填）'!B15 -> 0 | G26: ='样本信息表（必填）'!B19 -> 0 | H26: ='样本信息表（必填）'!B23 -> 0 | I26: ='样本信息表（必填）'!B27 -> 0 | J26: ='样本信息表（必填）'!B31 -> 0 | K26: ='样本信息表（必填）'!#REF! -> #REF!
A27: G | B27: Std7 | C27: Std7 | D27: ='样本信息表（必填）'!B8 -> 0 | E27: ='样本信息表（必填）'!B12 -> 0 | F27: ='样本信息表（必填）'!B16 -> 0 | G27: ='样本信息表（必填）'!B20 -> 0 | H27: ='样本信息表（必填）'!B24 -> 0 | I27: ='样本信息表（必填）'!B28 -> 0 | J27: ='样本信息表（必填）'!B32 -> 0 | K27: ='样本信息表（必填）'!B35 -> 0
A28: H | B28: Blank | C28: Blank | D28: ='样本信息表（必填）'!B8 -> 0 | E28: ='样本信息表（必填）'!B12 -> 0 | F28: ='样本信息表（必填）'!B16 -> 0 | G28: ='样本信息表（必填）'!B20 -> 0 | H28: ='样本信息表（必填）'!B24 -> 0 | I28: ='样本信息表（必填）'!B28 -> 0 | J28: ='样本信息表（必填）'!B32 -> 0 | K28: ='样本信息表（必填）'!B35 -> 0
A31: 方案八 | B31: 96T-2-检测64个样本（去掉预实验用掉的2条酶标条，剩余10条用于正实验标曲和样本，样本不做重复）
B32: 1 | C32: 2 | D32: 3 | E32: 4 | F32: 5 | G32: 6 | H32: 7 | I32: 8 | J32: 9 | K32: 10
A33: A | B33: Std1 | C33: Std1 | D33: ='样本信息表（必填）'!B5 -> 0 | E33: ='样本信息表（必填）'!B13 -> 0 | F33: ='样本信息表（必填）'!B21 -> 0 | G33: ='样本信息表（必填）'!B29 -> 0 | H33: ='样本信息表（必填）'!B36 -> 0 | I33: ='样本信息表（必填）'!B44 -> 0 | J33: ='样本信息表（必填）'!B52 -> 0 | K33: ='样本信息表（必填）'!B60 -> 0
A34: B | B34: Std2 | C34: Std2 | D34: ='样本信息表（必填）'!B6 -> 0 | E34: ='样本信息表（必填）'!B14 -> 0 | F34: ='样本信息表（必填）'!B22 -> 0 | G34: ='样本信息表（必填）'!B30 -> 0 | H34: ='样本信息表（必填）'!B37 -> 0 | I34: ='样本信息表（必填）'!B45 -> 0 | J34: ='样本信息表（必填）'!B53 -> 0 | K34: ='样本信息表（必填）'!B61 -> 0
A35: C | B35: Std3 | C35: Std3 | D35: ='样本信息表（必填）'!B7 -> 0 | E35: ='样本信息表（必填）'!B15 -> 0 | F35: ='样本信息表（必填）'!B23 -> 0 | G35: ='样本信息表（必填）'!B31 -> 0 | H35: ='样本信息表（必填）'!B38 -> 0 | I35: ='样本信息表（必填）'!B46 -> 0 | J35: ='样本信息表（必填）'!B54 -> 0 | K35: ='样本信息表（必填）'!B62 -> 0
A36: D | B36: Std4 | C36: Std4 | D36: ='样本信息表（必填）'!B8 -> 0 | E36: ='样本信息表（必填）'!B16 -> 0 | F36: ='样本信息表（必填）'!B24 -> 0 | G36: ='样本信息表（必填）'!B32 -> 0 | H36: ='样本信息表（必填）'!B39 -> 0 | I36: ='样本信息表（必填）'!B47 -> 0 | J36: ='样本信息表（必填）'!B55 -> 0 | K36: ='样本信息表（必填）'!B63 -> 0
A37: E | B37: Std5 | C37: Std5 | D37: ='样本信息表（必填）'!B9 -> 0 | E37: ='样本信息表（必填）'!B17 -> 0 | F37: ='样本信息表（必填）'!B25 -> 0 | G37: ='样本信息表（必填）'!B33 -> 0 | H37: ='样本信息表（必填）'!B40 -> 0 | I37: ='样本信息表（必填）'!B48 -> 0 | J37: ='样本信息表（必填）'!B56 -> 0 | K37: ='样本信息表（必填）'!B64 -> 0
A38: F | B38: Std6 | C38: Std6 | D38: ='样本信息表（必填）'!B10 -> 0 | E38: ='样本信息表（必填）'!B18 -> 0 | F38: ='样本信息表（必填）'!B26 -> 0 | G38: ='样本信息表（必填）'!B34 -> 0 | H38: ='样本信息表（必填）'!B41 -> 0 | I38: ='样本信息表（必填）'!B49 -> 0 | J38: ='样本信息表（必填）'!B57 -> 0 | K38: ='样本信息表（必填）'!B65 -> 0
A39: G | B39: Std7 | C39: Std7 | D39: ='样本信息表（必填）'!B11 -> 0 | E39: ='样本信息表（必填）'!B19 -> 0 | F39: ='样本信息表（必填）'!B27 -> 0 | G39: ='样本信息表（必填）'!#REF! -> #REF! | H39: ='样本信息表（必填）'!B42 -> 0 | I39: ='样本信息表（必填）'!B50 -> 0 | J39: ='样本信息表（必填）'!B58 -> 0 | K39: ='样本信息表（必填）'!B66 -> 0
A40: H | B40: Blank | C40: Blank | D40: ='样本信息表（必填）'!B12 -> 0 | E40: ='样本信息表（必填）'!B20 -> 0 | F40: ='样本信息表（必填）'!B28 -> 0 | G40: ='样本信息表（必填）'!B35 -> 0 | H40: ='样本信息表（必填）'!B43 -> 0 | I40: ='样本信息表（必填）'!B51 -> 0 | J40: ='样本信息表（必填）'!B59 -> 0 | K40: ='样本信息表（必填）'!B67 -> 0
A42: 自定义方案
B43: 1 | C43: 2 | D43: 3 | E43: 4 | F43: 5 | G43: 6 | H43: 7 | I43: 8 | J43: 9 | K43: 10
A44: A | B44: Std1 | C44: Std1
A45: B | B45: Std2 | C45: Std2
A46: C | B46: Std3 | C46: Std3
A47: D | B47: Std4 | C47: Std4
A48: E | B48: Std5 | C48: Std5
A49: F | B49: Std6 | C49: Std6
A50: G | B50: Std7 | C50: Std7
A51: H | B51: Blank | C51: Blank
